
BEGIN:VCALENDAR
VERSION:2.0
PRODID:-//GAMCON - ECPv4.5.10.1//NONSGML v1.0//EN
CALSCALE:GREGORIAN
METHOD:PUBLISH
X-WR-CALNAME:GAMCON
X-ORIGINAL-URL:https://www.gamcon.org/ru
X-WR-CALDESC:Events for GAMCON
BEGIN:VEVENT
DTSTART;VALUE=DATE:20180625
DTEND;VALUE=DATE:20180625
DTSTAMP:20260425T192623
CREATED:20180619T142546Z
LAST-MODIFIED:20180719T143020Z
UID:4602-1529884800-1529971199@www.gamcon.org
SUMMARY:Ретья Сессия Рабочей Группы Социальное направление
DESCRIPTION:С поддержкой ЕС\, команда GaMCon  проведет Третью Сессию Рабочей Группы Социальное направление\, которая пройдет в понедельник\, 25 июнь\,  2018 в Комратской Региональной Галерее\, начало в 09:00. \nБолее подробную информацию о РГ можно найти здесь: https://www.gamcon.org/ru/social-infrastructure-session-3-agenda/ \nЭто мероприятие поддерживается Европейским Союзом. \n
URL:https://www.gamcon.org/ru/gamcon-event/third-session-of-working-group-social-infrastructure/
CATEGORIES:Gamcon События
ATTACH;FMTTYPE=image/jpeg:https://www.gamcon.org/wp-content/uploads/2017/12/DSC_0086.jpg
END:VEVENT
END:VCALENDAR