
BEGIN:VCALENDAR
VERSION:2.0
PRODID:-//GAMCON - ECPv4.5.10.1//NONSGML v1.0//EN
CALSCALE:GREGORIAN
METHOD:PUBLISH
X-WR-CALNAME:GAMCON
X-ORIGINAL-URL:https://www.gamcon.org/ru
X-WR-CALDESC:Events for GAMCON
BEGIN:VEVENT
DTSTART;VALUE=DATE:20180517
DTEND;VALUE=DATE:20180517
DTSTAMP:20260425T192647
CREATED:20180510T135014Z
LAST-MODIFIED:20180719T140226Z
UID:4593-1526515200-1526601599@www.gamcon.org
SUMMARY:Третья Сессия Рабочей Группы Образование и Культура
DESCRIPTION:С поддержкой ЕС\, команда GaMCon  проведет Третью Сессию Рабочей Группы Образование и Культура\, которая пройдет в  Четверг\, 17го Мая 2018 в Комратской Региональной Галерее\, начало в 10:00. \nГлавная цель сессии – обсудить возможные пути внедрения методов неформального образования в образовательный процесс. Эксперт из Словакии Милан Чичел опишет словацкий опыт и извлеченные уроки. Местный эксперт\, Радион Вельчев\, проанализирует процесс внедрения методов неформального образования в Гагаузии. И последнее\, но не менее важное: будут обсуждаться предложения по образовательной системе Гагаузии. \nБолее подробную информацию о РГ можно найти здесь: https://www.gamcon.org/wg3-education-and-culture/ \nЭто мероприятие поддерживается Европейским Союзом. \n
URL:https://www.gamcon.org/ru/gamcon-event/third-session-of-working-group-education-and-culture-2/
CATEGORIES:Gamcon События
ATTACH;FMTTYPE=image/jpeg:https://www.gamcon.org/wp-content/uploads/2017/12/DSC_0032.jpg
END:VEVENT
END:VCALENDAR