
BEGIN:VCALENDAR
VERSION:2.0
PRODID:-//GAMCON - ECPv4.5.10.1//NONSGML v1.0//EN
CALSCALE:GREGORIAN
METHOD:PUBLISH
X-WR-CALNAME:GAMCON
X-ORIGINAL-URL:https://www.gamcon.org/ru
X-WR-CALDESC:Events for GAMCON
BEGIN:VEVENT
DTSTART;VALUE=DATE:20171114
DTEND;VALUE=DATE:20171114
DTSTAMP:20260426T001608
CREATED:20171116T102815Z
LAST-MODIFIED:20180103T141007Z
UID:2909-1510617600-1510703999@www.gamcon.org
SUMMARY:Неделя Инноваций и Технологий
DESCRIPTION:Проект GaMCon представил свою деятельность на Неделе Инноваций и Технологий в Комратском Государственном Университете.Цель Недели Инноваций была двоякой. Сначала представить существующие проекты и инициативы различных организаций из АТО Гагаузии на выставке «REGIO Ivent». Команда GaMCon\, представленная местным координатором проекта\, Дмитрием Фуртуна\, подчеркнула основную цель всего проекта и представила работу по всем трем основным направлениям проекта. \nЗа выставкой последовал круглый стол «Региональное инновационное развитие: вызовы и пути роста». Дискуссия проводилась в области развития технологий на территории Гагаузии и создания соответствующих условий для развития молодых исследователей. Также был затронут вопрос о государственной поддержке молодых ученых и исследователей и даже рассмотрен вопрос о необходимости принятия законодательной базы по поддержке инновационной и инновационной деятельности. \nМы выражаем благодарность Инно-Центру и директору центра Алле Левицкой за приглашение принять участие в этом обсуждении и возможность представить проект на выставке\, посвященной Недели Инноваций. \nй.    \n\n
URL:https://www.gamcon.org/ru/gamcon-event/the-week-of-innovation/
CATEGORIES:Gamcon События
ATTACH;FMTTYPE=image/jpeg:https://www.gamcon.org/wp-content/uploads/2017/11/IMG_2206.jpg
END:VEVENT
END:VCALENDAR