
BEGIN:VCALENDAR
VERSION:2.0
PRODID:-//GAMCON - ECPv4.5.10.1//NONSGML v1.0//EN
CALSCALE:GREGORIAN
METHOD:PUBLISH
X-WR-CALNAME:GAMCON
X-ORIGINAL-URL:https://www.gamcon.org/ru
X-WR-CALDESC:Events for GAMCON
BEGIN:VEVENT
DTSTART;VALUE=DATE:20180618
DTEND;VALUE=DATE:20180622
DTSTAMP:20260425T192641
CREATED:20180608T122253Z
LAST-MODIFIED:20180821T094248Z
UID:4254-1529280000-1529711999@www.gamcon.org
SUMMARY:Учебная поездка в Брюссель
DESCRIPTION:С 18 по 22 июня состоялась ознакомительная поездка для активных граждан Молдовы в Брюссель. Через ряд встреч с депутатами Европарламента\, представителями институтов ЕС\, дипломатов\, ученых и экспертов\, а также лидеров гражданского общества\, участники имели возможность увидеть\, как 28 разных государств-членов могут сотрудничать и принимать совместные решения\, и видеть\, как ЕС может улучшить жизнь граждан своих государств-членов по нескольким направлениям. \nМероприятие финансировалось Европейским союзом. \nБолее подробный отчет в ближайшее время! \n  \n
URL:https://www.gamcon.org/ru/gamcon-event/study-trip-of-moldovan-civil-society-representatives-to-slovakia/
LOCATION:Belgium
ATTACH;FMTTYPE=image/jpeg:https://www.gamcon.org/wp-content/uploads/2018/07/19956083_1850840018570588_2539340548203729218_o.jpg
END:VEVENT
END:VCALENDAR