
BEGIN:VCALENDAR
VERSION:2.0
PRODID:-//GAMCON - ECPv4.5.10.1//NONSGML v1.0//EN
CALSCALE:GREGORIAN
METHOD:PUBLISH
X-WR-CALNAME:GAMCON
X-ORIGINAL-URL:https://www.gamcon.org/ru
X-WR-CALDESC:Events for GAMCON
BEGIN:VEVENT
DTSTART;VALUE=DATE:20180611
DTEND;VALUE=DATE:20180615
DTSTAMP:20260425T192641
CREATED:20180608T122733Z
LAST-MODIFIED:20180821T095056Z
UID:4251-1528675200-1529107199@www.gamcon.org
SUMMARY:Учебная поездка в Словакию
DESCRIPTION:С 11 по 16 июня состоялась ознакомительная поездка для активных молдавских граждан в Словакию. Вместе мы посетили множество успешных и вдохновляющих инициатив и организаций с очень интересными историями из разных областей. Посмотрите фотографии и узнайте\, с кем мы познакомились! \nМероприятие финансировалось Европейским союзом. \nБолее подробный отчет в ближайшее время! \n
URL:https://www.gamcon.org/ru/gamcon-event/study-trip-of-moldovan-civil-society-representatives-to-slovakia-2/
ATTACH;FMTTYPE=image/jpeg:https://www.gamcon.org/wp-content/uploads/2017/06/DSC_0178.jpg
END:VEVENT
END:VCALENDAR