
BEGIN:VCALENDAR
VERSION:2.0
PRODID:-//GAMCON - ECPv4.5.10.1//NONSGML v1.0//EN
CALSCALE:GREGORIAN
METHOD:PUBLISH
X-WR-CALNAME:GAMCON
X-ORIGINAL-URL:https://www.gamcon.org/ru
X-WR-CALDESC:Events for GAMCON
BEGIN:VEVENT
DTSTART;VALUE=DATE:20171123
DTEND;VALUE=DATE:20171123
DTSTAMP:20260425T224149
CREATED:20171115T093524Z
LAST-MODIFIED:20171205T094645Z
UID:2874-1511395200-1511481599@www.gamcon.org
SUMMARY:ВТОРАЯ СЕССИЯ РАБОЧЕЙ ГРУППЫ ОБРАЗОВАНИЕ И КУЛЬТУРА
DESCRIPTION:Команда проекта GaMCon проведет Вторую Сессию Рабочей Группы «Образование и Культура»\, которая будет проходить во вторник\, 23-го ноября 2017\, в Региональной Художественной Галерее мун. Комрат. Начало в 10:00\, с вступительной речи Заместителя Башкана Гагаузии Олеси Танасогло. \nНа первой сессии было много обсуждений вокруг двух тем\, связанных с вопросами развития языков и вопросами неформального образования. Основываясь на дискуссиях Рабочих Групп и других соответствующих заинтересованных сторон мы решили сфокусироваться на вопросах неформального образования\, так как мы считаем эту тему достаточно актуальной и перспективной\, в связи с чем был отобран опытный эксперт в данной области – Радион Вельчев\, главной задачей которого будет презентовать несколько основных вопросов\, которые были выбраны во время первой сессии: представить процесс неформального образования; результаты использования методов неформального образования; возможные варианты внедрения этих методов в Гагаузии возможные барьеры и риски. Задачей Милана Чичел\, иностранного эксперта\, будет\, в первую очередь\, предоставить иностранный опыт по внедрению неформального образования и привести примеры удачных практик по устойчивому использованию неформального образования\, совместно с формальным. \nБолее подробную информацию о РГ можно найти здесь: https://www.gamcon.org/ru/wg3-education-and-culture/ \nЭто мероприятие поддерживается Европейским Союзом. \n
URL:https://www.gamcon.org/ru/gamcon-event/second-session-of-working-group-education-and-culture/
CATEGORIES:Gamcon События
ATTACH;FMTTYPE=image/jpeg:https://www.gamcon.org/wp-content/uploads/2017/03/IMG_0347.jpg
END:VEVENT
END:VCALENDAR