
BEGIN:VCALENDAR
VERSION:2.0
PRODID:-//GAMCON - ECPv4.5.10.1//NONSGML v1.0//EN
CALSCALE:GREGORIAN
METHOD:PUBLISH
X-WR-CALNAME:GAMCON
X-ORIGINAL-URL:https://www.gamcon.org/ru
X-WR-CALDESC:Events for GAMCON
BEGIN:VEVENT
DTSTART;TZID=UTC+1:20180512T080000
DTEND;TZID=UTC+1:20180513T170000
DTSTAMP:20260425T210839
CREATED:20180511T152012Z
LAST-MODIFIED:20180512T104405Z
UID:4157-1526112000-1526230800@www.gamcon.org
SUMMARY:ВТОРОЙ ТРЕНИНГ GYLP ПО ГРАЖДАНСКОЙ ВОВЛЕЧЕННОСТИ
DESCRIPTION:Команда GaMCon проведет второй тренинг GYLP по Гражданской ВОвлеченности\, 12 и 13 Мая с участием словацкого эксперта Милан Кайо Зборил и местного эксперта\, Сергея Прокопова \nБольше информации о тренинге по ссылке: https://www.gamcon.org/workshop-civic-engagement/ \n
URL:https://www.gamcon.org/ru/gamcon-event/second-gylp-training-on-civic-engagement/
ATTACH;FMTTYPE=image/jpeg:https://www.gamcon.org/wp-content/uploads/2017/12/IMG_2344.jpg
END:VEVENT
END:VCALENDAR