
BEGIN:VCALENDAR
VERSION:2.0
PRODID:-//GAMCON - ECPv4.5.10.1//NONSGML v1.0//EN
CALSCALE:GREGORIAN
METHOD:PUBLISH
X-WR-CALNAME:GAMCON
X-ORIGINAL-URL:https://www.gamcon.org/ru
X-WR-CALDESC:Events for GAMCON
BEGIN:VEVENT
DTSTART;TZID=UTC+1:20171016T093000
DTEND;TZID=UTC+1:20171016T120000
DTSTAMP:20260426T003307
CREATED:20171012T121208Z
LAST-MODIFIED:20171012T130003Z
UID:2770-1508146200-1508155200@www.gamcon.org
SUMMARY:В поисках консенсуса: КАК ВОПЛОТИТЬ ЭКСПЕРТНЫЕ РЕШЕНИЯ В ПОЛИТИЧЕСКУЮ ЖИЗНЬ
DESCRIPTION:RUS: \n \n  \nROM: \n \n
URL:https://www.gamcon.org/ru/gamcon-event/in-search-for-consensus-how-to-bring-expert-solutions-to-political-life/
CATEGORIES:Gamcon События
END:VEVENT
END:VCALENDAR