
BEGIN:VCALENDAR
VERSION:2.0
PRODID:-//GAMCON - ECPv4.5.10.1//NONSGML v1.0//EN
CALSCALE:GREGORIAN
METHOD:PUBLISH
X-WR-CALNAME:GAMCON
X-ORIGINAL-URL:https://www.gamcon.org/ru
X-WR-CALDESC:Events for GAMCON
BEGIN:VEVENT
DTSTART;VALUE=DATE:20180414
DTEND;VALUE=DATE:20180415
DTSTAMP:20260425T192634
CREATED:20180412T144807Z
LAST-MODIFIED:20180412T145321Z
UID:4071-1523664000-1523836799@www.gamcon.org
SUMMARY:ТРЕНИНГ GYLP ПО НАПИСАНИЕ ПРОЕКТА И УПРАВЛЕНИЕ
DESCRIPTION:Команда GaMCon проведет первый другой в рамках GYLP\, сосредоточившись на написании и менеджменте проекта 14-15 апрель.\n \nТренинг будет иметь характер моделирования подготовки проектных предложений в GaMCon. Участники получат информацию и практические навыки в качестве бенефициара проекта GAMCON (инструменты прозрачности\, подотчетности и прозрачности\, составление нарративного и финансового отчета на всех этапах реализации проекта\, анализ всех рисков в разработке и реализации проекта).\nНа следующем этапе обучения участники будут работать над выполнением регистрационной формы\, которая будет проводиться в соответствии с шаблоном. На последнем этапе тренер и участники будут разрабатывать бюджеты. \nТренинг будет проводиться на английском языке\, чтобы участники могли ознакомиться с порядком осуществления проектов ЕС. \nБольше информации о тренинге по ссылке: https://www.gamcon.org/ru/training-project-writing-and-management/ \n
URL:https://www.gamcon.org/ru/gamcon-event/gylp-training-on-project-writing-and-management-2/
CATEGORIES:Gamcon События
ATTACH;FMTTYPE=image/jpeg:https://www.gamcon.org/wp-content/uploads/2018/03/29244026_576202069417654_9096630176174833664_o.jpg
END:VEVENT
END:VCALENDAR