
BEGIN:VCALENDAR
VERSION:2.0
PRODID:-//GAMCON - ECPv4.5.10.1//NONSGML v1.0//EN
CALSCALE:GREGORIAN
METHOD:PUBLISH
X-WR-CALNAME:GAMCON
X-ORIGINAL-URL:https://www.gamcon.org/ru
X-WR-CALDESC:Events for GAMCON
BEGIN:VEVENT
DTSTART;TZID=UTC+1:20171125T000000
DTEND;TZID=UTC+1:20171126T000000
DTSTAMP:20260425T211433
CREATED:20171118T072007Z
LAST-MODIFIED:20180103T142624Z
UID:2925-1511568000-1511654400@www.gamcon.org
SUMMARY:GYLP ТРЕНИНГ ПО ГРАЖДАНСКОЙ ВОВЛЕЧЕННОСТИ
DESCRIPTION:\nКоманда GaMCon проводит первый GYLP тренинг\, сфокусированный на “общественной/гражданской вовлеченности” 25-26 Ноября \n\nТренинг будет в формате вводного курса – представить основы и основной набор информации для участников касательно общественного/гражданского вовлечения. Тренинг поможет участникам продумывать свою общественную деятельность.\n\n\nОсновное внимание будет уделяться взаимодействию с участниками\, а также обучению\, ролевым играм\, обратной связи со сверстниками и т. д. Будет возможность разработать план действий по внедрению этих навыков в свое общество. Участникам смогут проявлять готовность идти на риск – попытаться применять новые стстемы поведения в отношениях с другими\, пересмотреть свои собственные сильные / слабые стороны и быть открытыми для обратного взаимодействия. \n\n\nОбучение состоит из лекций и презентации\, тематических исследований и практических ролевых игр. \n\nРабочий язык – русский.\n\nБолее подробную информацию можно найти здесь: https://www.gamcon.org/civil-engagement/\n
URL:https://www.gamcon.org/ru/gamcon-event/gylp-training-on-civil-engagement/
CATEGORIES:Gamcon События
ATTACH;FMTTYPE=image/jpeg:https://www.gamcon.org/wp-content/uploads/2017/06/DSC_0178.jpg
END:VEVENT
END:VCALENDAR