
BEGIN:VCALENDAR
VERSION:2.0
PRODID:-//GAMCON - ECPv4.5.10.1//NONSGML v1.0//EN
CALSCALE:GREGORIAN
METHOD:PUBLISH
X-WR-CALNAME:GAMCON
X-ORIGINAL-URL:https://www.gamcon.org/ru
X-WR-CALDESC:Events for GAMCON
BEGIN:VEVENT
DTSTART;TZID=UTC+1:20170609T080000
DTEND;TZID=UTC+1:20170611T170000
DTSTAMP:20260425T230235
CREATED:20170810T055204Z
LAST-MODIFIED:20170828T144823Z
UID:2524-1496995200-1497200400@www.gamcon.org
SUMMARY:GaMCon поддерживает инициативы молодых лидеров во время InnoStart CAMP!
DESCRIPTION:В начале июня команда GaMCon приняла участие в молодежном лагере\, организованном Инновационным центром Комратского государственного университета совместно с Корпусом Mира в Молдове. \nС 9 по 11 июня 25 инициативных студентов из разных регионов Гагаузии получили возможность ознакомиться с историями успеха инициатив гражданского общества\, а затем улучшить свои навыки\, важные для осуществления их собственных мероприятий и инициатив. Студенты во время лагеря InnoStart встретились с командой разработчиков Gamcon и узнали больше о нашей деятельности\, ориентированной на молодежь. \nВ конце этого мероприятия 7 студентов были отобраны\, чтобы стать частью программы молодых лидеров GaMCon. \n
URL:https://www.gamcon.org/ru/gamcon-event/gamcon-supports-young-leaders-initiatives-during-innostart-camp/
END:VEVENT
END:VCALENDAR