
BEGIN:VCALENDAR
VERSION:2.0
PRODID:-//GAMCON - ECPv4.5.10.1//NONSGML v1.0//EN
CALSCALE:GREGORIAN
METHOD:PUBLISH
X-WR-CALNAME:GAMCON
X-ORIGINAL-URL:https://www.gamcon.org/ru
X-WR-CALDESC:Events for GAMCON
BEGIN:VEVENT
DTSTART;TZID=UTC+1:20170813T080000
DTEND;TZID=UTC+1:20170813T170000
DTSTAMP:20260425T230213
CREATED:20170828T150128Z
LAST-MODIFIED:20171013T104009Z
UID:2598-1502611200-1502643600@www.gamcon.org
SUMMARY:GaMCon поддерживает семьи с детьми-инвалидами!
DESCRIPTION:При поддержке GaMCon неправительственная организация «Essedis» и группа активных молодых людей из Гагаузии организовали благотворительный концерт\, чтобы помочь детям с ограниченными возможностями. \n13 августа в Чадыр-Лунге исполняли несколько профессиональных музыкантов\, чтобы привлечь внимание к проблемам детей-инвалидов и помочь им в их особых потребностях. \nБлаготворительный концерт собрал около 6 000 леев для детей. Все полученные средства пойдут на помощь детям с ограниченными возможностями и особыми потребностями. \nПодробнее о концерте можно узнать по адресу: http://gagauzinfo.md/index.php?newsid=34733a \n
URL:https://www.gamcon.org/ru/gamcon-event/gamcon-supports-families-with-disabled-children/
LOCATION:Moldova\, Republic Of
CATEGORIES:Gamcon События
END:VEVENT
END:VCALENDAR