
BEGIN:VCALENDAR
VERSION:2.0
PRODID:-//GAMCON - ECPv4.5.10.1//NONSGML v1.0//EN
CALSCALE:GREGORIAN
METHOD:PUBLISH
X-WR-CALNAME:GAMCON
X-ORIGINAL-URL:https://www.gamcon.org/ru
X-WR-CALDESC:Events for GAMCON
BEGIN:VEVENT
DTSTART;TZID=UTC+1:20181025T093000
DTEND;TZID=UTC+1:20181025T140000
DTSTAMP:20260425T174118
CREATED:20181026T140524Z
LAST-MODIFIED:20181026T140524Z
UID:5003-1540459800-1540476000@www.gamcon.org
SUMMARY:Четвёртая Сессия Рабочей Группы Молодежь и Спорт
DESCRIPTION:С поддержкой ЕС\, команда GaMCon  проведет Четвёртю Сессию Рабочей Группы Молодежь и Спорт\, которая пройдет в Среда\, 24 Октября\,  2018 в Комратской Региональной Галерее\, начало в 09:30.\n\n\nБолее подробную информацию о РГ можно найти здесь: https://www.gamcon.org/ru/youth-and-sport-session-4-agenda/\n\nЭто мероприятие поддерживается Европейским Союзом.\n
URL:https://www.gamcon.org/ru/gamcon-event/fourth-session-of-working-group-youth-and-sport/
CATEGORIES:Gamcon События
ATTACH;FMTTYPE=image/jpeg:https://www.gamcon.org/wp-content/uploads/2017/03/DSC_0129-1.jpg
END:VEVENT
END:VCALENDAR