
BEGIN:VCALENDAR
VERSION:2.0
PRODID:-//GAMCON - ECPv4.5.10.1//NONSGML v1.0//EN
CALSCALE:GREGORIAN
METHOD:PUBLISH
X-WR-CALNAME:GAMCON
X-ORIGINAL-URL:https://www.gamcon.org/ru
X-WR-CALDESC:Events for GAMCON
BEGIN:VEVENT
DTSTART;TZID=UTC+1:20180927T093000
DTEND;TZID=UTC+1:20180927T130000
DTSTAMP:20260425T160504
CREATED:20180925T140738Z
LAST-MODIFIED:20180925T141032Z
UID:4904-1538040600-1538053200@www.gamcon.org
SUMMARY:Четвёртая Сессия Рабочей Группы Региональное Развитие
DESCRIPTION:С поддержкой ЕС\, команда GaMCon  проведет Четвёртю Сессию Рабочей Группы Региональное Развитие\, которая пройдет в Четверг\, 27 сентября\,  2018 в Комратской Региональной Галерее\, начало в 09:30.\n\n\nБолее подробную информацию о РГ можно найти здесь: https://www.gamcon.org/ru/regional-development-session-4-agenda/\n\nЭто мероприятие поддерживается Европейским Союзом.\n
URL:https://www.gamcon.org/ru/gamcon-event/fourth-session-of-working-group-regional-development/
CATEGORIES:Gamcon События
ATTACH;FMTTYPE=image/jpeg:https://www.gamcon.org/wp-content/uploads/2017/03/DSC_0009-2.jpg
END:VEVENT
END:VCALENDAR