
BEGIN:VCALENDAR
VERSION:2.0
PRODID:-//GAMCON - ECPv4.5.10.1//NONSGML v1.0//EN
CALSCALE:GREGORIAN
METHOD:PUBLISH
X-WR-CALNAME:GAMCON
X-ORIGINAL-URL:https://www.gamcon.org/ru
X-WR-CALDESC:Events for GAMCON
BEGIN:VEVENT
DTSTART;TZID=UTC+1:20181024T093000
DTEND;TZID=UTC+1:20181024T140000
DTSTAMP:20260425T175225
CREATED:20181016T135256Z
LAST-MODIFIED:20181026T135532Z
UID:4997-1540373400-1540389600@www.gamcon.org
SUMMARY:Четвёртая Сессия Рабочей Группы Образование и культура
DESCRIPTION:\n\nС поддержкой ЕС\, команда GaMCon  проведет Четвёртю Сессию Рабочей Группы Образование и культура\, которая пройдет в Среда\, 24 Октября\,  2018 в Комратской Региональной Галерее\, начало в 09:30.\n\n\nБолее подробную информацию о РГ можно найти здесь: https://www.gamcon.org/ru/education-and-culture-session-4-agenda/\n\nЭто мероприятие поддерживается Европейским Союзом.\n\n\n\n
URL:https://www.gamcon.org/ru/gamcon-event/fourth-session-of-working-group-education-and-culture/
CATEGORIES:Gamcon События
ATTACH;FMTTYPE=image/jpeg:https://www.gamcon.org/wp-content/uploads/2018/07/DSC_0188.jpg
END:VEVENT
END:VCALENDAR