
BEGIN:VCALENDAR
VERSION:2.0
PRODID:-//GAMCON - ECPv4.5.10.1//NONSGML v1.0//EN
CALSCALE:GREGORIAN
METHOD:PUBLISH
X-WR-CALNAME:GAMCON
X-ORIGINAL-URL:https://www.gamcon.org/ru
X-WR-CALDESC:Events for GAMCON
BEGIN:VEVENT
DTSTART;TZID=UTC+1:20170623T080000
DTEND;TZID=UTC+1:20170623T150000
DTSTAMP:20260425T225838
CREATED:20170808T151507Z
LAST-MODIFIED:20170809T084806Z
UID:2494-1498204800-1498230000@www.gamcon.org
SUMMARY:ПЕРВАЯ СЕССИЯ РАБОЧЕЙ ГРУППЫ СОЦИАЛЬНАЯ ИНФРАСТРУКТУРА
DESCRIPTION:При поддержке ЕС группа GaMCon проведет первую сессию Рабочей группы по социальной инфраструктуре\, которая состоится в пятницу\, 23 июня 2017 года\, в конференц-зале Комратского государственного университета\, которая начнется в 10:00 с вступительных замечаний Олеси Танасогло. \nОсновная цель сессии – обсудить текущую ситуацию в Гагаузии в области социальной инфраструктуры и посмотреть на словацкий опыт и видение\, которые будут представлены известным экспертом из Словакии. Главной задачей иностранного эксперта из Словакии Сильвии Порубеновой будет представление лучших практик и уроков\, извлеченных из Словацкой Республики и других стран ЕС\, в осуществлении социальной политики\, особенно в области семейной политики\, для представления способов как функциональная семейная политика может способствовать улучшению более высокого уровня жизни молодых семей и\, наконец\, не в последнюю очередь представить знания\, которые могут улучшить социальную политику в Гагаузском регионе и в Молдове. Для лучшего понимания текущего состояния в сфере социальной инфраструктуры в Гагаузской области будет представлен анализ местного эксперта Ньяговой Анны. \nБолее подробную информацию о РГ можно найти здесь: https://www.gamcon.org/wg2-social-infrastructure/ \n
URL:https://www.gamcon.org/ru/gamcon-event/first-session-of-working-group-social-infrastructure/
LOCATION:Comrat \, Moldova\, Republic Of
END:VEVENT
END:VCALENDAR