
BEGIN:VCALENDAR
VERSION:2.0
PRODID:-//GAMCON - ECPv4.5.10.1//NONSGML v1.0//EN
CALSCALE:GREGORIAN
METHOD:PUBLISH
X-WR-CALNAME:GAMCON
X-ORIGINAL-URL:https://www.gamcon.org/ru
X-WR-CALDESC:Events for GAMCON
BEGIN:VEVENT
DTSTART;TZID=UTC+1:20170629T093000
DTEND;TZID=UTC+1:20170629T150000
DTSTAMP:20260425T225711
CREATED:20170808T150708Z
LAST-MODIFIED:20170809T083837Z
UID:2492-1498728600-1498748400@www.gamcon.org
SUMMARY:ПЕРВАЯ СЕССИЯ РАБОЧЕЙ ГРУППЫ РЕГИОНАЛЬНОГО РАЗВИТИЯ
DESCRIPTION:При поддержке ЕС группа GaMCon проведет первую сессию рабочей группы Регионального развития\, которая состоится в четверг\, 29 июня 2017 года\, в конференц-зале Комратского государственного университета\, которая начнется в 10:00 с вступительного слова Вадима Чебана. \nОсновная цель сессии – обсудить текущую ситуацию в Гагаузии в области регионального развития и посмотреть на словацкий опыт и видение\, которые будут представлены известным экспертом из Словакии. Основная задача иностранного эксперта из Словакии Владимира Бенча – представить лучшие практики и уроки\, извлеченные из Словацкой Республики в области регионального развития\, представить стратегию регионального развития\, выпущенную третьим по величине городом Словакии – Прешовом и как он был реализован. Для лучшего понимания текущего состояния в области регионального развития в Гагаузской области будет представлен анализ местного эксперта Сергея Пашкова. \nБолее подробную информацию о РГ можно найти здесь: https://www.gamcon.org/wg1-regional-development/ \n
URL:https://www.gamcon.org/ru/gamcon-event/first-session-of-working-group-regional-development/
LOCATION:Comrat \, Moldova\, Republic Of
END:VEVENT
END:VCALENDAR