
BEGIN:VCALENDAR
VERSION:2.0
PRODID:-//GAMCON - ECPv4.5.10.1//NONSGML v1.0//EN
CALSCALE:GREGORIAN
METHOD:PUBLISH
X-WR-CALNAME:GAMCON
X-ORIGINAL-URL:https://www.gamcon.org/ru
X-WR-CALDESC:Events for GAMCON
BEGIN:VEVENT
DTSTART;VALUE=DATE:20180306
DTEND;VALUE=DATE:20180306
DTSTAMP:20260425T210747
CREATED:20180303T034217Z
LAST-MODIFIED:20180303T124653Z
UID:3544-1520294400-1520380799@www.gamcon.org
SUMMARY:Вторую Сессию Рабочей Группы Региональное Развитие
DESCRIPTION:Команда GaMCon проведет Вторую Сессию Рабочей Группы “Региональное Развитие”. Мероприятие состоится во Вторник\, 6 марта в Региональной Художественной Галерее. Начало в 10:00 \nПосле первой сессии РГ по Региональному Развитию\, где обсуждалось количество различных идей для возможных путей развития региона\, вторая сессия идет с более конкретными предложениями в области развития туризма\, а именно винным туризмом.\nОсновная цель второй сессии РГ – обсудить текущую ситуацию в сфере и тенденции развития винного туризма в АТО Гагаузия. Местный эксперт Левитская Алла вместе с зарубежным экспертом Бенч Владимиром представит возможные пути будущего развития винного туризма в регионе на основе примеров успешного опыта\, реализованного в других странах или регионах.\nУчастники из разных областей также обсудят процесс подготовки Стратегии Развития Винного Туризма в АТО Гагаузия (методология разработки Стратегии\, план действий и ее продвижение). \nБолее подробную информацию о РГ можно найти здесь: https://www.gamcon.org/ru/regional-development-session-2-agenda/ \nЭто мероприятие поддерживается Европейским Союзом. \n
URL:https://www.gamcon.org/ru/gamcon-event/3544/
CATEGORIES:Gamcon События
ATTACH;FMTTYPE=image/jpeg:https://www.gamcon.org/wp-content/uploads/2017/03/DSC_0024.jpg
END:VEVENT
END:VCALENDAR