
BEGIN:VCALENDAR
VERSION:2.0
PRODID:-//GAMCON - ECPv4.5.10.1//NONSGML v1.0//EN
CALSCALE:GREGORIAN
METHOD:PUBLISH
X-WR-CALNAME:GAMCON
X-ORIGINAL-URL:https://www.gamcon.org
X-WR-CALDESC:Events for GAMCON
BEGIN:VEVENT
DTSTART;TZID=UTC+1:20180717T090000
DTEND;TZID=UTC+1:20180717T133000
DTSTAMP:20260425T193328
CREATED:20180710T114139Z
LAST-MODIFIED:20180712T153631Z
UID:4354-1531818000-1531834200@www.gamcon.org
SUMMARY:Third Session of Working Group Youth and Sport
DESCRIPTION:With EU support\, GaMCon Team will conduct the Third Session of Working Group Youth and Sport which will take place on Tuesday\, July 17\, 2018 in Regional Gallery of Arts\, Comrat\, starting at 9:00. \nMore information about the WG can be found here: https://www.gamcon.org/youth-and-sport-session-3-agenda/ \nThis event is supported by the European Union. \n
URL:https://www.gamcon.org/gamcon-event/third-session-of-working-group-youth-and-sport/
CATEGORIES:Gamcon Events
ATTACH;FMTTYPE=image/jpeg:https://www.gamcon.org/wp-content/uploads/2017/03/DSC_0097.jpg
END:VEVENT
END:VCALENDAR