
BEGIN:VCALENDAR
VERSION:2.0
PRODID:-//GAMCON - ECPv4.5.10.1//NONSGML v1.0//EN
CALSCALE:GREGORIAN
METHOD:PUBLISH
X-WR-CALNAME:GAMCON
X-ORIGINAL-URL:https://www.gamcon.org
X-WR-CALDESC:Events for GAMCON
BEGIN:VEVENT
DTSTART;VALUE=DATE:20180517
DTEND;VALUE=DATE:20180517
DTSTAMP:20260425T210920
CREATED:20180510T135014Z
LAST-MODIFIED:20180719T140226Z
UID:4593-1526515200-1526601599@www.gamcon.org
SUMMARY:Third Session of Working Group Education and Culture
DESCRIPTION:With EU support\, GaMCon Team will conduct the Third Session of Working Group Education and Culture which will take place on Thursday\, May 17\, 2018 in Regional Gallery of Arts\, Comrat\, starting at 10:00. \nMain aim of the session is to discuss the possible ways of implementation of non-formal education methods in the educational process. An expert from Slovakia Milan Cicel will describe the Slovak experience and lessons learned. Local expert\, Radion Velcev will analyze the process of implementation of non- formal education methods in Gagauzia. Last but not least proposals for educational system in Gagauzia will be discussed. \nMore information about the WG can be found here: https://www.gamcon.org/wg3-education-and-culture/ \nThis event is supported by the European Union. \n
URL:https://www.gamcon.org/gamcon-event/third-session-of-working-group-education-and-culture-2/
CATEGORIES:Gamcon Events
ATTACH;FMTTYPE=image/jpeg:https://www.gamcon.org/wp-content/uploads/2017/12/DSC_0032.jpg
END:VEVENT
END:VCALENDAR