
BEGIN:VCALENDAR
VERSION:2.0
PRODID:-//GAMCON - ECPv4.5.10.1//NONSGML v1.0//EN
CALSCALE:GREGORIAN
METHOD:PUBLISH
X-WR-CALNAME:GAMCON
X-ORIGINAL-URL:https://www.gamcon.org/ru
X-WR-CALDESC:Events for GAMCON
BEGIN:VEVENT
DTSTART;TZID=UTC+1:20180526T090000
DTEND;TZID=UTC+1:20180527T140000
DTSTAMP:20260425T174307
CREATED:20180521T074514Z
LAST-MODIFIED:20180723T075055Z
UID:4623-1527325200-1527429600@www.gamcon.org
SUMMARY:В ТРЕТЬИХ ТРЕНИНГ GYLP ПО ГРАЖДАНСКОЙ ВОВЛЕЧЕННОСТИ
DESCRIPTION:Команда GaMCon проведет в третьих тренинг GYLP по Гражданской ВОвлеченности\, 26 и 27 Мая\, 2018 с участием словацкого эксперта Милан Кайо Зборил и местного эксперта\, Сергея Прокопова.\n\n\nОбучение состоит из лекций и презентации\, тематических исследований и практических ролевых игр. \n\nРабочий язык – русский.\n\nБолее подробную информацию можно найти здесь: https://www.gamcon.org/ru/training-civiv-engagement/\n\n
URL:https://www.gamcon.org/ru/gamcon-event/third-gylp-training-on-civic-engagement/
CATEGORIES:Gamcon События
ATTACH;FMTTYPE=image/jpeg:https://www.gamcon.org/wp-content/uploads/2018/02/28461208_1657244704351605_2020867639_o.jpg
END:VEVENT
END:VCALENDAR