
BEGIN:VCALENDAR
VERSION:2.0
PRODID:-//GAMCON - ECPv4.5.10.1//NONSGML v1.0//EN
CALSCALE:GREGORIAN
METHOD:PUBLISH
X-WR-CALNAME:GAMCON
X-ORIGINAL-URL:https://www.gamcon.org
X-WR-CALDESC:Events for GAMCON
BEGIN:VEVENT
DTSTART;VALUE=DATE:20180618
DTEND;VALUE=DATE:20180622
DTSTAMP:20260425T174407
CREATED:20180608T122253Z
LAST-MODIFIED:20180821T094248Z
UID:4254-1529280000-1529711999@www.gamcon.org
SUMMARY:Study trip to Brussels
DESCRIPTION:With EU support\, GaMCon Team will organized a study trip to Brussels which will take place from June 18 to June 22\, 2018. \nThrough number of meetings with MEP´s\, representatives of EU institutions\, diplomats\, scholars and experts\, but also civil society leaders\, students had the opportunity to see how 28 different member states can cooperate and making decisions together and to see how can the EU improve life of citizens of its member states in number of ways. \nThis event is supported by the European Union. \nMore detailed report from study tour coming soon\, stay tuned! \n  \n
URL:https://www.gamcon.org/gamcon-event/study-trip-of-moldovan-civil-society-representatives-to-slovakia/
LOCATION:Belgium
ATTACH;FMTTYPE=image/jpeg:https://www.gamcon.org/wp-content/uploads/2018/07/19956083_1850840018570588_2539340548203729218_o.jpg
END:VEVENT
END:VCALENDAR