
BEGIN:VCALENDAR
VERSION:2.0
PRODID:-//GAMCON - ECPv4.5.10.1//NONSGML v1.0//EN
CALSCALE:GREGORIAN
METHOD:PUBLISH
X-WR-CALNAME:GAMCON
X-ORIGINAL-URL:https://www.gamcon.org/ru
X-WR-CALDESC:Events for GAMCON
BEGIN:VEVENT
DTSTART;TZID=UTC+1:20170329T090000
DTEND;TZID=UTC+1:20170331T121500
DTSTAMP:20260425T225840
CREATED:20170323T102648Z
LAST-MODIFIED:20170405T074538Z
UID:1609-1490778000-1490962500@www.gamcon.org
SUMMARY:Укрепление академического потенциала
DESCRIPTION:Укрепление академического потенциала \n \n
URL:https://www.gamcon.org/ru/gamcon-event/strengthening-of-academia/
CATEGORIES:Gamcon События
ATTACH;FMTTYPE=image/jpeg:https://www.gamcon.org/wp-content/uploads/2017/04/063.jpg
END:VEVENT
END:VCALENDAR