
BEGIN:VCALENDAR
VERSION:2.0
PRODID:-//GAMCON - ECPv4.5.10.1//NONSGML v1.0//EN
CALSCALE:GREGORIAN
METHOD:PUBLISH
X-WR-CALNAME:GAMCON
X-ORIGINAL-URL:https://www.gamcon.org/ru
X-WR-CALDESC:Events for GAMCON
BEGIN:VEVENT
DTSTART;TZID=UTC+1:20180310T100000
DTEND;TZID=UTC+1:20180311T170000
DTSTAMP:20260425T192625
CREATED:20180309T102645Z
LAST-MODIFIED:20180309T102645Z
UID:3771-1520676000-1520787600@www.gamcon.org
SUMMARY:ТРЕНИНГ GYLP ПО НАПИСАНИЕ ПРОЕКТА И УПРАВЛЕНИЕ
DESCRIPTION:Команда GaMCon проведет первый другой в рамках GYLP\, сосредоточившись на написании и менеджменте проекта 10-11 марш \nВ ходе тренинга участники получат общий обзор процессов\, связанных с созданием идеи проекта и его планировании и осуществлении. Они получат не только теоретические знания о проектах ЕС\, но и практический опыт в их подготовке. Тренинг повысит способность участников активно работать в проектных командах\, инициировать и готовить проекты. Он попытается связать идеи проекта с реальными формами заявки. Тренинг будет проводиться в форме интерактивного и динамичного сочетания презентации\, групповой работы и дискуссий. \nТренинг будет проводиться на английском языке\, чтобы участники могли ознакомиться с порядком осуществления проектов ЕС. \nБольше информации о тренинге по ссылке: https://www.gamcon.org/ru/project-writing-and-management-workshop/ \n
URL:https://www.gamcon.org/ru/gamcon-event/gylp-training-on-project-writing-and-management/
CATEGORIES:Gamcon События
ATTACH;FMTTYPE=image/jpeg:https://www.gamcon.org/wp-content/uploads/2017/12/GYLP2.jpg
END:VEVENT
END:VCALENDAR