
BEGIN:VCALENDAR
VERSION:2.0
PRODID:-//GAMCON - ECPv4.5.10.1//NONSGML v1.0//EN
CALSCALE:GREGORIAN
METHOD:PUBLISH
X-WR-CALNAME:GAMCON
X-ORIGINAL-URL:https://www.gamcon.org/ru
X-WR-CALDESC:Events for GAMCON
BEGIN:VEVENT
DTSTART;TZID=UTC+1:20171209T080000
DTEND;TZID=UTC+1:20171210T170000
DTSTAMP:20260425T211441
CREATED:20171206T164442Z
LAST-MODIFIED:20180103T142233Z
UID:3194-1512806400-1512925200@www.gamcon.org
SUMMARY:ТРЕНИНГ GYLP ПО НАПИСАНИЮ ПРОЕКТА И ГРАЖДАНСКОМУ ВОВЛЕЧЕНИЮ
DESCRIPTION:Команда GaMCon проведет второй тренинг в рамках GYLP\, сосредоточившись на написании и менеджменте проекта 9-10 Декабря \nТренинг подразумевается как вводный – участники получат основную\, общую информацию о написании проекта. Во время тренинга участники получат общие данные о процессах\, связанных с планированием предложения (заявки) и внедрением проекта. Они не только приобретут теоретические знания\, но также и практический опыт в работе с инструментами\, применяемыми в ключевых фазах подготовки проекта: анализ и планирование. \nТренинг будет проведен в виде сочетания интерактивной и динамической презентации\, работе в группах и дискуссиях. \nТренинг будет на английском языке с переводом. \nБольше информации о тренинге по ссылке : https://www.gamcon.org/project-writing-and-management/ \n
URL:https://www.gamcon.org/ru/gamcon-event/gylp-training-on-project-writing-and-civil-engagement/
CATEGORIES:Gamcon События
ATTACH;FMTTYPE=image/jpeg:https://www.gamcon.org/wp-content/uploads/2017/12/IMG_2478.jpg
END:VEVENT
END:VCALENDAR