
BEGIN:VCALENDAR
VERSION:2.0
PRODID:-//GAMCON - ECPv4.5.10.1//NONSGML v1.0//EN
CALSCALE:GREGORIAN
METHOD:PUBLISH
X-WR-CALNAME:GAMCON
X-ORIGINAL-URL:https://www.gamcon.org
X-WR-CALDESC:Events for GAMCON
BEGIN:VEVENT
DTSTART;VALUE=DATE:20171217
DTEND;VALUE=DATE:20171218
DTSTAMP:20260425T192520
CREATED:20171214T135028Z
LAST-MODIFIED:20171214T135028Z
UID:3221-1513468800-1513641599@www.gamcon.org
SUMMARY:GYLP TRAINING ON CONFIDENCE BUILDING
DESCRIPTION:GaMCon team will conduct second GYLP training focusing on Confidence Building\, Decemeber 17 – 18. \nThe aim of this introductory training is to raise awareness about the participants’ qualities as individuals and as a community\, to create space for reflection about their identities\, relations to others and to explore possibilities for enhancing mutual trust between diverse communities. \nThe training will be in a form of interactive and dynamic combination of presentation\, group work and discussions. \nThe training will be done in English with interpretation. \nMore information about the training on: https://www.gamcon.org/confidence-building/ \nThis event is supported by the European Union. \n
URL:https://www.gamcon.org/gamcon-event/gylp-training-on-confidence-building/
CATEGORIES:Gamcon Events
ATTACH;FMTTYPE=image/jpeg:https://www.gamcon.org/wp-content/uploads/2017/12/GYLP2.jpg
END:VEVENT
END:VCALENDAR