
BEGIN:VCALENDAR
VERSION:2.0
PRODID:-//GAMCON - ECPv4.5.10.1//NONSGML v1.0//EN
CALSCALE:GREGORIAN
METHOD:PUBLISH
X-WR-CALNAME:GAMCON
X-ORIGINAL-URL:https://www.gamcon.org
X-WR-CALDESC:Events for GAMCON
BEGIN:VEVENT
DTSTART;TZID=UTC+1:20170813T080000
DTEND;TZID=UTC+1:20170813T170000
DTSTAMP:20260425T211547
CREATED:20170828T150128Z
LAST-MODIFIED:20171013T104009Z
UID:2598-1502611200-1502643600@www.gamcon.org
SUMMARY:GaMCon supports families with disabled children!
DESCRIPTION:With support of GaMCon\, the nongovernmental organization “Essedis” and the group of active young people from Gagauzia organized a benefit concert to help children with disabilities. \nOn August 13 number of professional musicians and singers performed in Ceadir Lunga to put attention on problems of disabled children and to help them with their special needs. \nBenefit concert raised around 6\,000 lei for children. All received funds will go to help children with disabilities and special needs. \nMore about the concert can be found on: http://gagauzinfo.md/index.php?newsid=34733a \n
URL:https://www.gamcon.org/gamcon-event/gamcon-supports-families-with-disabled-children/
LOCATION:Moldova\, Republic Of
CATEGORIES:Gamcon Events
END:VEVENT
END:VCALENDAR