
BEGIN:VCALENDAR
VERSION:2.0
PRODID:-//GAMCON - ECPv4.5.10.1//NONSGML v1.0//EN
CALSCALE:GREGORIAN
METHOD:PUBLISH
X-WR-CALNAME:GAMCON
X-ORIGINAL-URL:https://www.gamcon.org
X-WR-CALDESC:Events for GAMCON
BEGIN:VEVENT
DTSTART;TZID=UTC+1:20181024T093000
DTEND;TZID=UTC+1:20181024T140000
DTSTAMP:20260425T161525
CREATED:20181016T135256Z
LAST-MODIFIED:20181026T135532Z
UID:4997-1540373400-1540389600@www.gamcon.org
SUMMARY:Fourth Session of Working Group Education and Culture
DESCRIPTION:With EU support\, GaMCon Team will conduct the Fourth Session of Working Group Education and Culture which will take place on Wednesday\, October 24\, 2018 in Regional Gallery of Arts\, Comrat\, starting at 9:30.\n\n\n\n\nMore information about the WG can be found here: https://www.gamcon.org/education-and-culture-session-4-agenda/\n\n\n\n\nThis event is supported by the European Union.\n
URL:https://www.gamcon.org/gamcon-event/fourth-session-of-working-group-education-and-culture/
CATEGORIES:Gamcon Events
ATTACH;FMTTYPE=image/jpeg:https://www.gamcon.org/wp-content/uploads/2018/07/DSC_0188.jpg
END:VEVENT
END:VCALENDAR