
BEGIN:VCALENDAR
VERSION:2.0
PRODID:-//GAMCON - ECPv4.5.10.1//NONSGML v1.0//EN
CALSCALE:GREGORIAN
METHOD:PUBLISH
X-WR-CALNAME:GAMCON
X-ORIGINAL-URL:https://www.gamcon.org/ru
X-WR-CALDESC:Events for GAMCON
BEGIN:VEVENT
DTSTART;TZID=UTC+1:20170613T093000
DTEND;TZID=UTC+1:20170613T150000
DTSTAMP:20260425T210939
CREATED:20170808T152917Z
LAST-MODIFIED:20170809T085138Z
UID:2499-1497346200-1497366000@www.gamcon.org
SUMMARY:Первая сессия рабочей группы молодежи и спорта
DESCRIPTION:При поддержке ЕС группа GaMCon проведет первую сессию рабочей группы по делам молодежи и спорта\, которая состоится во вторник\, 13 июня 2017 года\, в конференц-зале Комратского государственного университета\, которая начнется в 10:00 с вступительного слова заместителя Башкана Гагаузии Олеси Танасогло. \nОсновная цель сессии – обсудить текущую ситуацию в Гагаузии в сфере молодежи и спорта и посмотреть на словацкий опыт и видение в этой области\, которые будут представлены известным экспертом из Словакии. Главной задачей иностранного эксперта из Словакии Дениса Харчарова будет представление опыта Словацкой Республики и других стран ЕС в основном в развитии работы с молодежью\, их взаимодействии с взрослыми и их участии в обществе в целом. Для лучшего понимания нынешнего состояния в области молодежи и спорта в Гагаузской области будет проведен анализ местного эксперта Натальи Кожокар. \nБолее подробную информацию о РГ можно найти здесь: https://www.gamcon.org/wg4-youth-and-sport/ \n
URL:https://www.gamcon.org/ru/gamcon-event/first-session-of-working-group-youth-and-sport/
LOCATION:Comrat \, Moldova\, Republic Of
END:VEVENT
END:VCALENDAR