
BEGIN:VCALENDAR
VERSION:2.0
PRODID:-//GAMCON - ECPv4.5.10.1//NONSGML v1.0//EN
CALSCALE:GREGORIAN
METHOD:PUBLISH
X-WR-CALNAME:GAMCON
X-ORIGINAL-URL:https://www.gamcon.org
X-WR-CALDESC:Events for GAMCON
BEGIN:VEVENT
DTSTART;TZID=UTC+1:20170623T080000
DTEND;TZID=UTC+1:20170623T150000
DTSTAMP:20260425T225817
CREATED:20170808T151507Z
LAST-MODIFIED:20170809T084806Z
UID:2494-1498204800-1498230000@www.gamcon.org
SUMMARY:First Session of Working Group  Social Infrastructure
DESCRIPTION:With EU support\, GaMCon Team will conduct First Session of Working Group Social Infrastructure which will take place on Friday\, June 23\, 2017 in Conference Hall of Comrat State University\, starting at  10:00 with opening remarks by Olesea Tanasoglo. \nMain aim of the session is to discuss the current situation in Gagauzia in the field of social infrastructure and to look at the Slovak experience and vision\, which will be presented by renowned expert from Slovakia. The main task of the foreign expert from Slovakia\, Silvia Porubänová\, will be to present best practices and lessons learned of the Slovak Republic and other EU countries in implementation of social policies\, especially family policy\, to present ways how can functioning family policy contribute to the improvement of better living standards of young families and last but not least to present the know how that could help to improve social policies in Gagauz region and in Moldova as well. For better understanding of the current state in the field of social infrastructure in Gagauz region an analysis by local expert Nyagova Anna will be presented. \nMore information about the WG can be found here: https://www.gamcon.org/wg2-social-infrastructure/ \n
URL:https://www.gamcon.org/gamcon-event/first-session-of-working-group-social-infrastructure/
LOCATION:Comrat \, Moldova\, Republic Of
END:VEVENT
END:VCALENDAR