
BEGIN:VCALENDAR
VERSION:2.0
PRODID:-//GAMCON - ECPv4.5.10.1//NONSGML v1.0//EN
CALSCALE:GREGORIAN
METHOD:PUBLISH
X-WR-CALNAME:GAMCON
X-ORIGINAL-URL:https://www.gamcon.org
X-WR-CALDESC:Events for GAMCON
BEGIN:VEVENT
DTSTART;TZID=UTC+1:20170629T093000
DTEND;TZID=UTC+1:20170629T150000
DTSTAMP:20260425T211212
CREATED:20170808T150708Z
LAST-MODIFIED:20170809T083837Z
UID:2492-1498728600-1498748400@www.gamcon.org
SUMMARY:First Session of Working Group  Regional Development
DESCRIPTION:With EU support\, GaMCon Team will conduct First Session of Working Group Regional Development which will take place on Thursday\, June 29\, 2017 in Conference Hall of Comrat State University\, starting at 10:00 with opening remarks by Vadim Cheban. \nMain aim of the session is to discuss the current situation in Gagauzia in the field of regional development and to look at the Slovak experience and vision\, which will be presented by renowned expert from Slovakia. The main task of the foreign expert from Slovakia\, Vladimír Benč\, will be to present best practices and lessons learned of the Slovak Republic in the field of regional development\, to present strategy for regional development issued by Slovakia´s third largest city- Prešov and to present how it was implemented. For better understanding of the current state in the field of regional development in Gagauz region an analysis by local expert Sergey Pashkov will be presented. \n More information about the WG can be found here: https://www.gamcon.org/wg1-regional-development/ \n
URL:https://www.gamcon.org/gamcon-event/first-session-of-working-group-regional-development/
LOCATION:Comrat \, Moldova\, Republic Of
END:VEVENT
END:VCALENDAR