
BEGIN:VCALENDAR
VERSION:2.0
PRODID:-//GAMCON - ECPv4.5.10.1//NONSGML v1.0//EN
CALSCALE:GREGORIAN
METHOD:PUBLISH
X-WR-CALNAME:GAMCON
X-ORIGINAL-URL:https://www.gamcon.org
X-WR-CALDESC:Events for GAMCON
BEGIN:VEVENT
DTSTART;VALUE=DATE:20180306
DTEND;VALUE=DATE:20180306
DTSTAMP:20260425T192525
CREATED:20180303T034217Z
LAST-MODIFIED:20180303T124653Z
UID:3544-1520294400-1520380799@www.gamcon.org
SUMMARY:Second Session of WG Regional Development
DESCRIPTION:GaMCon Team will conduct Second Session of Working Group “Regional Development.” Meeting will take place on Tuesday\, March 6\, 2018 in Regional Gallery of Arts of mun. Comrat starting at 10:00. \nAfter the first session of WG Regional Development\, where number of different ideas for the possible ways for development of the region were discussed\, the second session coming with more concrete proposals in the field of tourism development\, namely the wine tourism.\nMain aim of the second WG session is to discuss the current situation in the field and tendencies of wine tourism development in ATU Gagauzia. Local expert Levitskaya Alla\, together with foreign expert Bench Vladimir will present the possible ways for future development of wine tourism in the region based on examples of successful experience implemented in other countries or regions.\nParticipants from different areas will also discuss the process of preparation of the Strategy for the development of wine tourism in ATU Gagauzia (methodology of the Strategy development\, action plan and its promotion). \nMore information about the WG can be found here: https://www.gamcon.org/regional-development-session-2-agenda/ \nThis event is supported by the European Union. \n
URL:https://www.gamcon.org/gamcon-event/3544/
CATEGORIES:Gamcon Events
ATTACH;FMTTYPE=image/jpeg:https://www.gamcon.org/wp-content/uploads/2017/03/DSC_0024.jpg
END:VEVENT
END:VCALENDAR