
BEGIN:VCALENDAR
VERSION:2.0
PRODID:-//GAMCON - ECPv4.5.10.1//NONSGML v1.0//EN
CALSCALE:GREGORIAN
METHOD:PUBLISH
X-WR-CALNAME:GAMCON
X-ORIGINAL-URL:https://www.gamcon.org/ru
X-WR-CALDESC:Events for GAMCON
BEGIN:VEVENT
DTSTART;TZID=UTC+1:20171205T080000
DTEND;TZID=UTC+1:20171205T170000
DTSTAMP:20260425T210754
CREATED:20171204T112304Z
LAST-MODIFIED:20180103T142155Z
UID:3065-1512460800-1512493200@www.gamcon.org
SUMMARY:Вторую Сессию Рабочей Группы "Молодежь и Спорт"
DESCRIPTION:Команда GaMCon проведет Вторую Сессию Рабочей Группы “Молодежь и Спорт”. Мероприятие состоится во Вторник\, 5 Декабря в Региональной Художественной Галерее. Начало в 10:00. \nПосле первой сессии РГ «Молодежь и спорт»\, где было представлено несколько различных идей для развития молодежного сектора\, вторая сессия пройдёт с более конкретными предложениями. Основная цель сессии – определить потребности и возможности\, а также возможные барьеры и недостатки будущего развития молодежной сферы. Участники определят конкретные приоритетные направления развития молодежи и обсуждать возможные пути их реализации.\nМестный эксперт Наталья Кожокар представит стратегический план действий\, отражающий текущую ситуацию\, потребности и возможности для развития молодежного сектора. Соня Штефанчикова из Словацкого молодежного института представит словацкий и европейский подходы к развитию молодежи. Она представит существующие программы мобильности молодежи и государственные программы\, разработанные для поддержки молодежи в Словакии и странах ЕС. \nБолее подробную информацию о РГ можно найти здесь: https://www.gamcon.org/wg4-youth-and-sport/ \nЭто мероприятие поддерживается Европейским Союзом. \n
URL:https://www.gamcon.org/ru/gamcon-event/3065/
CATEGORIES:Gamcon События
ATTACH;FMTTYPE=image/jpeg:https://www.gamcon.org/wp-content/uploads/2017/07/IMG_0335.jpg
END:VEVENT
END:VCALENDAR